BEGIN:VCALENDAR
VERSION:2.0
PRODID:-//the Montrose Center - ECPv6.13.2//NONSGML v1.0//EN
CALSCALE:GREGORIAN
METHOD:PUBLISH
X-WR-CALNAME:the Montrose Center
X-ORIGINAL-URL:https://montrosecenter.org
X-WR-CALDESC:Events for the Montrose Center
REFRESH-INTERVAL;VALUE=DURATION:PT1H
X-Robots-Tag:noindex
X-PUBLISHED-TTL:PT1H
BEGIN:VTIMEZONE
TZID:America/Chicago
BEGIN:DAYLIGHT
TZOFFSETFROM:-0600
TZOFFSETTO:-0500
TZNAME:CDT
DTSTART:20250309T080000
END:DAYLIGHT
BEGIN:STANDARD
TZOFFSETFROM:-0500
TZOFFSETTO:-0600
TZNAME:CST
DTSTART:20251102T070000
END:STANDARD
END:VTIMEZONE
BEGIN:VEVENT
DTSTART;TZID=America/Chicago:20251215T120000
DTEND;TZID=America/Chicago:20251215T130000
DTSTAMP:20260423T182255
CREATED:20220826T013347Z
LAST-MODIFIED:20220826T013347Z
UID:64947-1765800000-1765803600@montrosecenter.org
SUMMARY:The Sooner the Better NA - 110
DESCRIPTION:Open to the public. Narcotics Anonymous Meeting
URL:https://montrosecenter.org/event/the-sooner-the-better-na-110-124-2025-12-15/
CATEGORIES:Wellness
END:VEVENT
BEGIN:VEVENT
DTSTART;TZID=America/Chicago:20251215T184500
DTEND;TZID=America/Chicago:20251215T194500
DTSTAMP:20260423T182255
CREATED:20220826T013347Z
LAST-MODIFIED:20220826T013347Z
UID:64948-1765824300-1765827900@montrosecenter.org
SUMMARY:CMA: Miss Amphetamine - 110
DESCRIPTION:
URL:https://montrosecenter.org/event/cma-miss-amphetamine-110-18-2025-12-15/
CATEGORIES:Wellness
END:VEVENT
BEGIN:VEVENT
DTSTART;TZID=America/Chicago:20251215T200000
DTEND;TZID=America/Chicago:20251215T210000
DTSTAMP:20260423T182255
CREATED:20220826T013348Z
LAST-MODIFIED:20220826T013348Z
UID:64949-1765828800-1765832400@montrosecenter.org
SUMMARY:The Sooner the Better NA - 110
DESCRIPTION:Open to the public
URL:https://montrosecenter.org/event/the-sooner-the-better-na-110-125-2025-12-15/
CATEGORIES:Wellness
END:VEVENT
END:VCALENDAR