BEGIN:VCALENDAR
VERSION:2.0
PRODID:-//the Montrose Center - ECPv6.13.2//NONSGML v1.0//EN
CALSCALE:GREGORIAN
METHOD:PUBLISH
X-WR-CALNAME:the Montrose Center
X-ORIGINAL-URL:https://montrosecenter.org
X-WR-CALDESC:Events for the Montrose Center
REFRESH-INTERVAL;VALUE=DURATION:PT1H
X-Robots-Tag:noindex
X-PUBLISHED-TTL:PT1H
BEGIN:VTIMEZONE
TZID:America/Chicago
BEGIN:DAYLIGHT
TZOFFSETFROM:-0600
TZOFFSETTO:-0500
TZNAME:CDT
DTSTART:20250309T080000
END:DAYLIGHT
BEGIN:STANDARD
TZOFFSETFROM:-0500
TZOFFSETTO:-0600
TZNAME:CST
DTSTART:20251102T070000
END:STANDARD
END:VTIMEZONE
BEGIN:VEVENT
DTSTART;TZID=America/Chicago:20251201T120000
DTEND;TZID=America/Chicago:20251201T130000
DTSTAMP:20260423T225015
CREATED:20220826T013347Z
LAST-MODIFIED:20220826T013347Z
UID:63609-1764590400-1764594000@montrosecenter.org
SUMMARY:The Sooner the Better NA - 110
DESCRIPTION:Open to the public. Narcotics Anonymous Meeting
URL:https://montrosecenter.org/event/the-sooner-the-better-na-110-124-2025-12-01/
CATEGORIES:Wellness
END:VEVENT
BEGIN:VEVENT
DTSTART;TZID=America/Chicago:20251201T184500
DTEND;TZID=America/Chicago:20251201T194500
DTSTAMP:20260423T225015
CREATED:20220826T013347Z
LAST-MODIFIED:20220826T013347Z
UID:63610-1764614700-1764618300@montrosecenter.org
SUMMARY:CMA: Miss Amphetamine - 110
DESCRIPTION:
URL:https://montrosecenter.org/event/cma-miss-amphetamine-110-18-2025-12-01/
CATEGORIES:Wellness
END:VEVENT
BEGIN:VEVENT
DTSTART;TZID=America/Chicago:20251201T200000
DTEND;TZID=America/Chicago:20251201T210000
DTSTAMP:20260423T225015
CREATED:20220826T013348Z
LAST-MODIFIED:20220826T013348Z
UID:63611-1764619200-1764622800@montrosecenter.org
SUMMARY:The Sooner the Better NA - 110
DESCRIPTION:Open to the public
URL:https://montrosecenter.org/event/the-sooner-the-better-na-110-125-2025-12-01/
CATEGORIES:Wellness
END:VEVENT
END:VCALENDAR