BEGIN:VCALENDAR
VERSION:2.0
PRODID:-//the Montrose Center - ECPv6.13.2//NONSGML v1.0//EN
CALSCALE:GREGORIAN
METHOD:PUBLISH
X-ORIGINAL-URL:https://montrosecenter.org
X-WR-CALDESC:Events for the Montrose Center
REFRESH-INTERVAL;VALUE=DURATION:PT1H
X-Robots-Tag:noindex
X-PUBLISHED-TTL:PT1H
BEGIN:VTIMEZONE
TZID:America/Chicago
BEGIN:DAYLIGHT
TZOFFSETFROM:-0600
TZOFFSETTO:-0500
TZNAME:CDT
DTSTART:20250309T080000
END:DAYLIGHT
BEGIN:STANDARD
TZOFFSETFROM:-0500
TZOFFSETTO:-0600
TZNAME:CST
DTSTART:20251102T070000
END:STANDARD
END:VTIMEZONE
BEGIN:VEVENT
DTSTART;TZID=America/Chicago:20251004T190000
DTEND;TZID=America/Chicago:20251004T220000
DTSTAMP:20260421T015721
CREATED:20250327T202714Z
LAST-MODIFIED:20250820T195305Z
UID:84153-1759604400-1759615200@montrosecenter.org
SUMMARY:Out for Good 2025
DESCRIPTION:Make Your Reservation Today!To make a reservation\, or for more information\, click here. \n\n\n\nLGBTQ+ Houston’s Premier Annual GalaMore than 750 LGBTQ+ leaders\, community members\, and allies will come together to celebrate National Coming Out Day and Houston’s  LGBTQ+ center. Guests will enjoy a delicious dinner\, inspiring program\, and great company. \n\n\n\nSaturday\, October 4\, 2025Marriott Marquis Houston\, 1777 Walker St6PM VIP Reception7PM Doors Open7:30PM Dinner & ProgramAfter-Party to Follow! \n\n\n\nMake Your Reservation Today!To make a reservation\, or for more information\, click here. \n\n\n\nBenefiting the Montrose CenterEmpowering LGBTQ+ Houston since 1978One of the leading full-service LGBTQ+ centers in the nation\, we are proud to support all aspects of our community – youth\, seniors\, gender services\, HIV prevention and support\, mental health services & community center.
URL:https://montrosecenter.org/event/out-for-good-2025/
CATEGORIES:Community Events,Featured – Homepage,Rising Leaders,Senior,Support Groups,Transgender,Wellness,Youth
ATTACH;FMTTYPE=image/png:https://montrosecenter.org/wp-content/uploads/2025/03/Updated-OFG25-Postcard.png
END:VEVENT
BEGIN:VEVENT
DTSTART;TZID=America/Chicago:20251007T173000
DTEND;TZID=America/Chicago:20251007T183000
DTSTAMP:20260421T015721
CREATED:20250902T220651Z
LAST-MODIFIED:20250902T220654Z
UID:87837-1759858200-1759861800@montrosecenter.org
SUMMARY:S&PAA
DESCRIPTION:Open to the public – this is a weekly Peer Support Group for those with psychotic illness. For more information\, please visit sczaction.org.K. Lamoreaux
URL:https://montrosecenter.org/event/spaa/
LOCATION:the Montrose Center\, 401 Branard St.\, Houston\, TX\, United States
CATEGORIES:Support Groups
GEO:29.7365187;-95.3847939
X-APPLE-STRUCTURED-LOCATION;VALUE=URI;X-ADDRESS=the Montrose Center 401 Branard St. Houston TX United States;X-APPLE-RADIUS=500;X-TITLE=401 Branard St.:geo:-95.3847939,29.7365187
END:VEVENT
BEGIN:VEVENT
DTSTART;TZID=America/Chicago:20251011T183000
DTEND;TZID=America/Chicago:20251011T194500
DTSTAMP:20260421T015721
CREATED:20251006T193356Z
LAST-MODIFIED:20251010T194236Z
UID:88339-1760207400-1760211900@montrosecenter.org
SUMMARY:The Refuge Recovery Queers - 114
DESCRIPTION:The Refuge Recovery community in Houston is a relatively small community\, especially compared to some of the other more well known recovery programs. The queer Refuge Recovery meeting I lead is the first and only queer refuge meeting in Houston. It is a unique space built for queer people seeking a different form of recovery. Refuge Recovery\, although originally founded for addiction\, is a flexible program that can be used for any sort of obsessive thinking pattern or mental illness. Whether someone is in need of learning how to meditate\, interested in Buddhist practices\, looking for a different approach to recovery\, or simply searching for a new community of queer and gender expansive support\, this meeting has the ability to serve anyone who enters it.C. Bano
URL:https://montrosecenter.org/event/the-refuge-recovery-queers-110/
LOCATION:the Montrose Center\, 401 Branard St.\, Houston\, TX\, United States
CATEGORIES:Support Groups
GEO:29.7365187;-95.3847939
X-APPLE-STRUCTURED-LOCATION;VALUE=URI;X-ADDRESS=the Montrose Center 401 Branard St. Houston TX United States;X-APPLE-RADIUS=500;X-TITLE=401 Branard St.:geo:-95.3847939,29.7365187
END:VEVENT
BEGIN:VEVENT
DTSTART;TZID=America/Chicago:20251014T173000
DTEND;TZID=America/Chicago:20251014T183000
DTSTAMP:20260421T015721
CREATED:20250902T220749Z
LAST-MODIFIED:20250902T220752Z
UID:87839-1760463000-1760466600@montrosecenter.org
SUMMARY:S&PAA - 110
DESCRIPTION:Open to the public – this is a weekly Peer Support Group for those with psychotic illness. For more information\, please visit sczaction.org.K. Lamoreaux
URL:https://montrosecenter.org/event/spaa-110-9/
LOCATION:the Montrose Center\, 401 Branard St.\, Houston\, TX\, United States
CATEGORIES:Support Groups
GEO:29.7365187;-95.3847939
X-APPLE-STRUCTURED-LOCATION;VALUE=URI;X-ADDRESS=the Montrose Center 401 Branard St. Houston TX United States;X-APPLE-RADIUS=500;X-TITLE=401 Branard St.:geo:-95.3847939,29.7365187
END:VEVENT
BEGIN:VEVENT
DTSTART;TZID=America/Chicago:20251020T180000
DTEND;TZID=America/Chicago:20251020T190000
DTSTAMP:20260421T015721
CREATED:20241210T174808Z
LAST-MODIFIED:20241210T174808Z
UID:78101-1760983200-1760986800@montrosecenter.org
SUMMARY:All Recovery Peer Support Group - 114
DESCRIPTION:This weekly group\, led by a Recovery Support Peer Specialist\, empowers LGBTQ individuals\, friends and families to live meaningful\, fulfilling lives using the four pillars of recovery: Home\, Health\, Community\, and Purpose. This group will not meet on any holidays. Fill free to contact Coach Jace with any questions at 832-840-0567 or jwright@montrosecenter.org.
URL:https://montrosecenter.org/event/all-recovery-peer-support-group-114/2025-10-20/
CATEGORIES:At the Center,Support Groups
END:VEVENT
BEGIN:VEVENT
DTSTART;TZID=America/Chicago:20251021T154500
DTEND;TZID=America/Chicago:20251021T170000
DTSTAMP:20260421T015721
CREATED:20241210T173311Z
LAST-MODIFIED:20241210T174545Z
UID:77894-1761061500-1761066000@montrosecenter.org
SUMMARY:Women's Peer Support Group - 114
DESCRIPTION:This is a peer led group for women who have things they would like to get support on. Support can be for any reason at all\, mental health challenges\, substance abuse\, abuse\, sexual abuse\, etc. Anything that has been on the participants mind can be shared in a safe space. \n\n\n\nFor more information\, please call (281)707-7902 or email rproll-clark@montrosecenter.org. \n\n\n\nR Proll-Clark
URL:https://montrosecenter.org/event/womens-peer-support-group-114/2025-10-21/
CATEGORIES:At the Center,Support Groups
END:VEVENT
BEGIN:VEVENT
DTSTART;TZID=America/Chicago:20251021T174500
DTEND;TZID=America/Chicago:20251021T184500
DTSTAMP:20260421T015721
CREATED:20250902T220858Z
LAST-MODIFIED:20251021T215616Z
UID:87841-1761068700-1761072300@montrosecenter.org
SUMMARY:S&PAA - 110
DESCRIPTION:Open to the public – this is a weekly Peer Support Group for those with psychotic illness. For more information\, please visit sczaction.org.K. Lamoreaux
URL:https://montrosecenter.org/event/spaa-110-10/
LOCATION:the Montrose Center\, 401 Branard St.\, Houston\, TX\, United States
CATEGORIES:Support Groups
GEO:29.7365187;-95.3847939
X-APPLE-STRUCTURED-LOCATION;VALUE=URI;X-ADDRESS=the Montrose Center 401 Branard St. Houston TX United States;X-APPLE-RADIUS=500;X-TITLE=401 Branard St.:geo:-95.3847939,29.7365187
END:VEVENT
BEGIN:VEVENT
DTSTART;TZID=America/Chicago:20251022T200000
DTEND;TZID=America/Chicago:20251022T210000
DTSTAMP:20260421T015721
CREATED:20250102T205225Z
LAST-MODIFIED:20250102T205225Z
UID:80851-1761163200-1761166800@montrosecenter.org
SUMMARY:SLAA - 114
DESCRIPTION:12-Step open discussion recovery group. Helping the LGBTQIA members recover from sex and love addiction from a 12-Step lens.J. Gelehrte
URL:https://montrosecenter.org/event/slaa-114/2025-10-22/
CATEGORIES:At the Center,Community Events,Support Groups
END:VEVENT
BEGIN:VEVENT
DTSTART;TZID=America/Chicago:20251023T183000
DTEND;TZID=America/Chicago:20251023T210000
DTSTAMP:20260421T015721
CREATED:20250224T160134Z
LAST-MODIFIED:20250919T154235Z
UID:82665-1761244200-1761253200@montrosecenter.org
SUMMARY:Beyond the Binary - Crafting Night -114
DESCRIPTION:Join Beyond the Binary on 4th Thursdays for a night of arts\, crafts\, and conversation. Feel free to bring a project you’re working on or something new. This event is open to anyone with an identity outside of the gender binary- including non-binary\, gender non-conforming\, trans\, and non-cisgender people. You must be 18 or older to attend this group.For more information\, contact transwellness@montrosecenter.org.C. Cox
URL:https://montrosecenter.org/event/beyond-the-binary-crafting-night/2025-10-23/
CATEGORIES:At the Center,Beyond the Binary,Community Events,Support Groups
END:VEVENT
BEGIN:VEVENT
DTSTART;TZID=America/Chicago:20251023T183000
DTEND;TZID=America/Chicago:20251023T210000
DTSTAMP:20260421T015721
CREATED:20250224T160236Z
LAST-MODIFIED:20250919T154300Z
UID:82674-1761244200-1761253200@montrosecenter.org
SUMMARY:Beyond the Binary - Crafting Night
DESCRIPTION:Join Beyond the Binary on 4th Thursdays for a night of arts\, crafts\, and conversation. Feel free to bring a project you’re working on or something new. This event is open to anyone with an identity outside of the gender binary- including non-binary\, gender non-conforming\, trans\, and non-cisgender people. You must be 18 or older to attend this group.\nFor more information\, contact transwellness@montrosecenter.org.
URL:https://montrosecenter.org/event/beyond-the-binary-crafting-night-10/
CATEGORIES:Beyond the Binary,Support Groups
ATTACH;FMTTYPE=image/png:https://montrosecenter.org/wp-content/uploads/2022/12/placeholder.png
END:VEVENT
BEGIN:VEVENT
DTSTART;TZID=America/Chicago:20251023T190000
DTEND;TZID=America/Chicago:20251023T203000
DTSTAMP:20260421T015721
CREATED:20250224T161116Z
LAST-MODIFIED:20250711T202032Z
UID:82718-1761246000-1761251400@montrosecenter.org
SUMMARY:Trans*Fabulous Transgender Support Group - Online
DESCRIPTION:Meeting virtually via Zoom on Thursdays 7–8:30 PM\, this peer support group is where trans\, non-binary\, and gender non-conforming people can find an affirming space to share experiences\, build a support network\, ask questions\, and create community ties. Allies are welcome as well and asked to give preference to trans voices in the space. Interested attendees may join the virtual Zoom meeting here. https://link.edgepilot.com/s/d2606885/Noux6R4Zb0u5C_pS-DIP2A?u=https://us06web.zoom.us/meeting/register/NRx1nF7qSmGO5v_fGz8o4wFor more information\, visit the Trans*Fabulous Bluesky page or send a message to transfabuloussupport@wonderlandtranslations.net.K. Senn
URL:https://montrosecenter.org/event/transfabulous-transgender-support-group-online/2025-10-23/
CATEGORIES:Community Events,Support Groups,Transgender
END:VEVENT
BEGIN:VEVENT
DTSTART;TZID=America/Chicago:20251025T190000
DTEND;TZID=America/Chicago:20251025T203000
DTSTAMP:20260421T015721
CREATED:20251006T193505Z
LAST-MODIFIED:20251006T193507Z
UID:88341-1761418800-1761424200@montrosecenter.org
SUMMARY:The Refuge Recovery Queers - 110
DESCRIPTION:The Refuge Recovery community in Houston is a relatively small community\, especially compared to some of the other more well known recovery programs. The queer Refuge Recovery meeting I lead is the first and only queer refuge meeting in Houston. It is a unique space built for queer people seeking a different form of recovery. Refuge Recovery\, although originally founded for addiction\, is a flexible program that can be used for any sort of obsessive thinking pattern or mental illness. Whether someone is in need of learning how to meditate\, interested in Buddhist practices\, looking for a different approach to recovery\, or simply searching for a new community of queer and gender expansive support\, this meeting has the ability to serve anyone who enters it.C. Bano
URL:https://montrosecenter.org/event/the-refuge-recovery-queers-110-2/
LOCATION:the Montrose Center\, 401 Branard St.\, Houston\, TX\, United States
CATEGORIES:Support Groups
GEO:29.7365187;-95.3847939
X-APPLE-STRUCTURED-LOCATION;VALUE=URI;X-ADDRESS=the Montrose Center 401 Branard St. Houston TX United States;X-APPLE-RADIUS=500;X-TITLE=401 Branard St.:geo:-95.3847939,29.7365187
END:VEVENT
BEGIN:VEVENT
DTSTART;TZID=America/Chicago:20251026T140000
DTEND;TZID=America/Chicago:20251026T153000
DTSTAMP:20260421T015721
CREATED:20241210T210649Z
LAST-MODIFIED:20241210T210927Z
UID:78518-1761487200-1761492600@montrosecenter.org
SUMMARY:Support Group for Parents of Trans Kids and Young Adults - 114
DESCRIPTION:The Parents of Trans Youth support group at The Montrose Center offers facilitated peer support to parents and caregivers of transgender and gender-diverse youth and young adults. Led by parents of transgender young adults\, the group discusses general joys and challenges related to parenting transgender youth. Discussions will remain confidential among group participants. The group is open to any parent or caregiver of trans youth in the Houston area. Doors open at 2pm and discussion starts at 2:15pm. \n\n\n\nFor more information\, please visit www.parentsoftransyouth.com.
URL:https://montrosecenter.org/event/support-group-for-parents-of-trans-kids-and-young-adults-114-2025-01-26/2025-10-26/
CATEGORIES:At the Center,Support Groups
END:VEVENT
BEGIN:VEVENT
DTSTART;TZID=America/Chicago:20251027T180000
DTEND;TZID=America/Chicago:20251027T190000
DTSTAMP:20260421T015721
CREATED:20241210T174808Z
LAST-MODIFIED:20241210T174808Z
UID:78102-1761588000-1761591600@montrosecenter.org
SUMMARY:All Recovery Peer Support Group - 114
DESCRIPTION:This weekly group\, led by a Recovery Support Peer Specialist\, empowers LGBTQ individuals\, friends and families to live meaningful\, fulfilling lives using the four pillars of recovery: Home\, Health\, Community\, and Purpose. This group will not meet on any holidays. Fill free to contact Coach Jace with any questions at 832-840-0567 or jwright@montrosecenter.org.
URL:https://montrosecenter.org/event/all-recovery-peer-support-group-114/2025-10-27/
CATEGORIES:At the Center,Support Groups
END:VEVENT
BEGIN:VEVENT
DTSTART;TZID=America/Chicago:20251027T193000
DTEND;TZID=America/Chicago:20251027T203000
DTSTAMP:20260421T015721
CREATED:20250102T203315Z
LAST-MODIFIED:20250102T203315Z
UID:80806-1761593400-1761597000@montrosecenter.org
SUMMARY:Houston Transgender Support Group - 106
DESCRIPTION:The Houston Transgender Support Group is an in-person support group that meets every other Monday at 7:30 p.m. The group is a safe space for transgender adults\, those questioning and their support. The group is led by a moderator with a topic each week that is followed by an open forum.J. Gunning
URL:https://montrosecenter.org/event/houston-transgender-support-group-106-4/2025-10-27/
CATEGORIES:At the Center,Community Events,Support Groups,Transgender
END:VEVENT
BEGIN:VEVENT
DTSTART;TZID=America/Chicago:20251028T154500
DTEND;TZID=America/Chicago:20251028T170000
DTSTAMP:20260421T015721
CREATED:20241210T173311Z
LAST-MODIFIED:20241210T174546Z
UID:77895-1761666300-1761670800@montrosecenter.org
SUMMARY:Women's Peer Support Group - 114
DESCRIPTION:This is a peer led group for women who have things they would like to get support on. Support can be for any reason at all\, mental health challenges\, substance abuse\, abuse\, sexual abuse\, etc. Anything that has been on the participants mind can be shared in a safe space. \n\n\n\nFor more information\, please call (281)707-7902 or email rproll-clark@montrosecenter.org. \n\n\n\nR Proll-Clark
URL:https://montrosecenter.org/event/womens-peer-support-group-114/2025-10-28/
CATEGORIES:At the Center,Support Groups
END:VEVENT
BEGIN:VEVENT
DTSTART;TZID=America/Chicago:20251028T174500
DTEND;TZID=America/Chicago:20251028T184500
DTSTAMP:20260421T015721
CREATED:20250902T220948Z
LAST-MODIFIED:20251021T220514Z
UID:87843-1761673500-1761677100@montrosecenter.org
SUMMARY:S&PAA - 110
DESCRIPTION:Open to the public – this is a weekly Peer Support Group for those with psychotic illness. For more information\, please visit sczaction.org.K. Lamoreaux
URL:https://montrosecenter.org/event/spaa-110-11/
LOCATION:the Montrose Center\, 401 Branard St.\, Houston\, TX\, United States
CATEGORIES:Support Groups
GEO:29.7365187;-95.3847939
X-APPLE-STRUCTURED-LOCATION;VALUE=URI;X-ADDRESS=the Montrose Center 401 Branard St. Houston TX United States;X-APPLE-RADIUS=500;X-TITLE=401 Branard St.:geo:-95.3847939,29.7365187
END:VEVENT
BEGIN:VEVENT
DTSTART;TZID=America/Chicago:20251028T200000
DTEND;TZID=America/Chicago:20251028T210000
DTSTAMP:20260421T015721
CREATED:20241210T201540Z
LAST-MODIFIED:20241210T201540Z
UID:82944-1761681600-1761685200@montrosecenter.org
SUMMARY:Bonnie Brae 12-Step Group – 112/113
DESCRIPTION:We are an inclusive support group with a mission to help the suffering addict receive recovery. Our primary purpose is to stay free from cocaine and all other mind-altering substances\, and to help others achieve the same freedom. Cocaine Anonymous is a Fellowship of\, by\, and for cocaine addicts seeking recovery. \n\n\n\nFor more information\, please visit ca-texas.org.
URL:https://montrosecenter.org/event/bonnie-brae-12-step-group-112-113-2-2025-02-25-2025-10-28/
CATEGORIES:At the Center,Support Groups
END:VEVENT
BEGIN:VEVENT
DTSTART;TZID=America/Chicago:20251029T200000
DTEND;TZID=America/Chicago:20251029T210000
DTSTAMP:20260421T015721
CREATED:20250102T205225Z
LAST-MODIFIED:20250102T205225Z
UID:80852-1761768000-1761771600@montrosecenter.org
SUMMARY:SLAA - 114
DESCRIPTION:12-Step open discussion recovery group. Helping the LGBTQIA members recover from sex and love addiction from a 12-Step lens.J. Gelehrte
URL:https://montrosecenter.org/event/slaa-114/2025-10-29/
CATEGORIES:At the Center,Community Events,Support Groups
END:VEVENT
BEGIN:VEVENT
DTSTART;TZID=America/Chicago:20251030T190000
DTEND;TZID=America/Chicago:20251030T203000
DTSTAMP:20260421T015721
CREATED:20250224T161116Z
LAST-MODIFIED:20250711T202034Z
UID:82719-1761850800-1761856200@montrosecenter.org
SUMMARY:Trans*Fabulous Transgender Support Group - Online
DESCRIPTION:Meeting virtually via Zoom on Thursdays 7–8:30 PM\, this peer support group is where trans\, non-binary\, and gender non-conforming people can find an affirming space to share experiences\, build a support network\, ask questions\, and create community ties. Allies are welcome as well and asked to give preference to trans voices in the space. Interested attendees may join the virtual Zoom meeting here. https://link.edgepilot.com/s/d2606885/Noux6R4Zb0u5C_pS-DIP2A?u=https://us06web.zoom.us/meeting/register/NRx1nF7qSmGO5v_fGz8o4wFor more information\, visit the Trans*Fabulous Bluesky page or send a message to transfabuloussupport@wonderlandtranslations.net.K. Senn
URL:https://montrosecenter.org/event/transfabulous-transgender-support-group-online/2025-10-30/
CATEGORIES:Community Events,Support Groups,Transgender
END:VEVENT
BEGIN:VEVENT
DTSTART;TZID=America/Chicago:20251030T200000
DTEND;TZID=America/Chicago:20251030T210000
DTSTAMP:20260421T015721
CREATED:20251030T193035Z
LAST-MODIFIED:20251030T193040Z
UID:89665-1761854400-1761858000@montrosecenter.org
SUMMARY:The Sooner The Better Group of Narcotics Anonymous - 110
DESCRIPTION:The Sooner The Better Group of Narcotics Anonymous is an organization for addicts that have a desire to stop using and to help each other stay clean. The group promotes the inclusion of all\, including the LGBT community.
URL:https://montrosecenter.org/event/the-sooner-the-better-group-of-narcotics-anonymous-110-10/
CATEGORIES:At the Center,Community Events,Support Groups
END:VEVENT
BEGIN:VEVENT
DTSTART;TZID=America/Chicago:20251031T193000
DTEND;TZID=America/Chicago:20251031T213000
DTSTAMP:20260421T015721
CREATED:20251031T170622Z
LAST-MODIFIED:20251031T170624Z
UID:89691-1761939000-1761946200@montrosecenter.org
SUMMARY:Bonnie Brae 12-Step Group
DESCRIPTION:Our mission is to help the suffering addict or alcoholic no matter the sexual preference receive recovery.
URL:https://montrosecenter.org/event/bonnie-brae-12-step-group/
CATEGORIES:At the Center,Community Events,Support Groups
END:VEVENT
BEGIN:VEVENT
DTSTART;TZID=America/Chicago:20251031T200000
DTEND;TZID=America/Chicago:20251031T210000
DTSTAMP:20260421T015721
CREATED:20251031T170309Z
LAST-MODIFIED:20251031T170349Z
UID:89688-1761940800-1761944400@montrosecenter.org
SUMMARY:Sooner the Better Group of Narcotics Anonymous - 110
DESCRIPTION:The Sooner The Better Group of Narcotics Anonymous is an organization for addicts that have a desire to stop using. The group promotes the inclusion of all\, including the LGBT community.R. Luna
URL:https://montrosecenter.org/event/sooner-the-better-group-of-narcotics-anonymous-110/
CATEGORIES:At the Center,Community Events,Support Groups
END:VEVENT
END:VCALENDAR