BEGIN:VCALENDAR
VERSION:2.0
PRODID:-//the Montrose Center - ECPv6.15.20//NONSGML v1.0//EN
CALSCALE:GREGORIAN
METHOD:PUBLISH
X-WR-CALNAME:the Montrose Center
X-ORIGINAL-URL:https://montrosecenter.org
X-WR-CALDESC:Events for the Montrose Center
REFRESH-INTERVAL;VALUE=DURATION:PT1H
X-Robots-Tag:noindex
X-PUBLISHED-TTL:PT1H
BEGIN:VTIMEZONE
TZID:America/Chicago
BEGIN:DAYLIGHT
TZOFFSETFROM:-0600
TZOFFSETTO:-0500
TZNAME:CDT
DTSTART:20240310T080000
END:DAYLIGHT
BEGIN:STANDARD
TZOFFSETFROM:-0500
TZOFFSETTO:-0600
TZNAME:CST
DTSTART:20241103T070000
END:STANDARD
BEGIN:DAYLIGHT
TZOFFSETFROM:-0600
TZOFFSETTO:-0500
TZNAME:CDT
DTSTART:20250309T080000
END:DAYLIGHT
BEGIN:STANDARD
TZOFFSETFROM:-0500
TZOFFSETTO:-0600
TZNAME:CST
DTSTART:20251102T070000
END:STANDARD
BEGIN:DAYLIGHT
TZOFFSETFROM:-0600
TZOFFSETTO:-0500
TZNAME:CDT
DTSTART:20260308T080000
END:DAYLIGHT
BEGIN:STANDARD
TZOFFSETFROM:-0500
TZOFFSETTO:-0600
TZNAME:CST
DTSTART:20261101T070000
END:STANDARD
END:VTIMEZONE
BEGIN:VEVENT
DTSTART;TZID=America/Chicago:20250102T183000
DTEND;TZID=America/Chicago:20250102T203000
DTSTAMP:20260425T135717
CREATED:20250102T211719Z
LAST-MODIFIED:20250102T211720Z
UID:80913-1735842600-1735849800@montrosecenter.org
SUMMARY:Trans Masculine Alliance Houston monthly support meeting* - 111
DESCRIPTION:At our meetings\, we engage in open dialogue around aspects of our transmasculine identity\, such as navigating gendered spaces\, hormones and surgery\, social transitioning\, and dating and relationships. Meetings are limited to those who are AFAB (assigned female at birth) and identify as FtM\, transmasculine\, non-binary\, or are questioning their gender. Participants must be 18 or older.G. Zemanek
URL:https://montrosecenter.org/event/trans-masculine-alliance-houston-monthly-support-meeting-111/2025-01-02/
CATEGORIES:At the Center,Community Center Private Events,Support Groups,Transgender
END:VEVENT
BEGIN:VEVENT
DTSTART;TZID=America/Chicago:20250102T190000
DTEND;TZID=America/Chicago:20250102T203000
DTSTAMP:20260425T135717
CREATED:20250224T161116Z
LAST-MODIFIED:20250711T201934Z
UID:82675-1735844400-1735849800@montrosecenter.org
SUMMARY:Trans*Fabulous Transgender Support Group - Online
DESCRIPTION:Meeting virtually via Zoom on Thursdays 7–8:30 PM\, this peer support group is where trans\, non-binary\, and gender non-conforming people can find an affirming space to share experiences\, build a support network\, ask questions\, and create community ties. Allies are welcome as well and asked to give preference to trans voices in the space. Interested attendees may join the virtual Zoom meeting here. https://link.edgepilot.com/s/d2606885/Noux6R4Zb0u5C_pS-DIP2A?u=https://us06web.zoom.us/meeting/register/NRx1nF7qSmGO5v_fGz8o4wFor more information\, visit the Trans*Fabulous Bluesky page or send a message to transfabuloussupport@wonderlandtranslations.net.K. Senn
URL:https://montrosecenter.org/event/transfabulous-transgender-support-group-online/2025-01-02/
CATEGORIES:Community Events,Support Groups,Transgender
END:VEVENT
BEGIN:VEVENT
DTSTART;TZID=America/Chicago:20250104T120000
DTEND;TZID=America/Chicago:20250104T131500
DTSTAMP:20260425T135717
CREATED:20241223T210654Z
LAST-MODIFIED:20251030T152639Z
UID:80026-1735992000-1735996500@montrosecenter.org
SUMMARY:The Right Step AFG - 110
DESCRIPTION:Al-anon meeting. For attending virtually\, please go to www.zoom.us. The meeting ID is 883 8193 4744 and the passcode is 123456  A. Brown
URL:https://montrosecenter.org/event/the-right-step-afg-110/2025-01-04/
CATEGORIES:At the Center,Support Groups
END:VEVENT
BEGIN:VEVENT
DTSTART;TZID=America/Chicago:20250106T180000
DTEND;TZID=America/Chicago:20250106T190000
DTSTAMP:20260425T135718
CREATED:20241210T174808Z
LAST-MODIFIED:20241210T174809Z
UID:78059-1736186400-1736190000@montrosecenter.org
SUMMARY:All Recovery Peer Support Group - 114
DESCRIPTION:This weekly group\, led by a Recovery Support Peer Specialist\, empowers LGBTQ individuals\, friends and families to live meaningful\, fulfilling lives using the four pillars of recovery: Home\, Health\, Community\, and Purpose. This group will not meet on any holidays. Fill free to contact Coach Jace with any questions at 832-840-0567 or jwright@montrosecenter.org.
URL:https://montrosecenter.org/event/all-recovery-peer-support-group-114/2025-01-06/
CATEGORIES:At the Center,Support Groups
END:VEVENT
BEGIN:VEVENT
DTSTART;TZID=America/Chicago:20250107T154500
DTEND;TZID=America/Chicago:20250107T170000
DTSTAMP:20260425T135718
CREATED:20241210T173311Z
LAST-MODIFIED:20241210T174527Z
UID:77852-1736264700-1736269200@montrosecenter.org
SUMMARY:Women's Peer Support Group - 114
DESCRIPTION:This is a peer led group for women who have things they would like to get support on. Support can be for any reason at all\, mental health challenges\, substance abuse\, abuse\, sexual abuse\, etc. Anything that has been on the participants mind can be shared in a safe space. \n\n\n\nFor more information\, please call (281)707-7902 or email rproll-clark@montrosecenter.org. \n\n\n\nR Proll-Clark
URL:https://montrosecenter.org/event/womens-peer-support-group-114/2025-01-07/
CATEGORIES:At the Center,Support Groups
END:VEVENT
BEGIN:VEVENT
DTSTART;TZID=America/Chicago:20250107T174500
DTEND;TZID=America/Chicago:20250107T184500
DTSTAMP:20260425T135718
CREATED:20241211T145434Z
LAST-MODIFIED:20241211T145437Z
UID:78874-1736271900-1736275500@montrosecenter.org
SUMMARY:S&PAA - 110
DESCRIPTION:Open to the public – this is a weekly Peer Support Group for those with psychotic illness. For more information\, please visit sczaction.org.
URL:https://montrosecenter.org/event/spaa-110-2/2025-01-07/
CATEGORIES:At the Center,Support Groups
END:VEVENT
BEGIN:VEVENT
DTSTART;TZID=America/Chicago:20250109T180000
DTEND;TZID=America/Chicago:20250109T190000
DTSTAMP:20260425T135718
CREATED:20250224T155410Z
LAST-MODIFIED:20250224T155413Z
UID:82632-1736445600-1736449200@montrosecenter.org
SUMMARY:Beyond the Binary
DESCRIPTION:Beyond the Binary is a safer space discussion group for non-binary\, gender non-conforming\, trans\, and non-cisgender individuals. that provides a supportive environment for participants to express their thoughts and experiences and build community. You must be 18 or older to attend this group.Meets virtually via Teams on the 2nd Thursdays of the month. For more information\, contact transwellness@montrosecenter.org.C. Cox
URL:https://montrosecenter.org/event/beyond-the-binary/2025-01-09/
CATEGORIES:Community Center Private Events,Support Groups
END:VEVENT
BEGIN:VEVENT
DTSTART;TZID=America/Chicago:20250126T140000
DTEND;TZID=America/Chicago:20250126T153000
DTSTAMP:20260425T135718
CREATED:20241210T210649Z
LAST-MODIFIED:20241210T210926Z
UID:78509-1737900000-1737905400@montrosecenter.org
SUMMARY:Support Group for Parents of Trans Kids and Young Adults - 114
DESCRIPTION:The Parents of Trans Youth support group at The Montrose Center offers facilitated peer support to parents and caregivers of transgender and gender-diverse youth and young adults. Led by parents of transgender young adults\, the group discusses general joys and challenges related to parenting transgender youth. Discussions will remain confidential among group participants. The group is open to any parent or caregiver of trans youth in the Houston area. Doors open at 2pm and discussion starts at 2:15pm. \n\n\n\nFor more information\, please visit www.parentsoftransyouth.com.
URL:https://montrosecenter.org/event/support-group-for-parents-of-trans-kids-and-young-adults-114-2025-01-26/2025-01-26/
CATEGORIES:At the Center,Support Groups
END:VEVENT
END:VCALENDAR