BEGIN:VCALENDAR
VERSION:2.0
PRODID:-//the Montrose Center - ECPv6.13.2//NONSGML v1.0//EN
CALSCALE:GREGORIAN
METHOD:PUBLISH
X-ORIGINAL-URL:https://montrosecenter.org
X-WR-CALDESC:Events for the Montrose Center
REFRESH-INTERVAL;VALUE=DURATION:PT1H
X-Robots-Tag:noindex
X-PUBLISHED-TTL:PT1H
BEGIN:VTIMEZONE
TZID:America/Chicago
BEGIN:DAYLIGHT
TZOFFSETFROM:-0600
TZOFFSETTO:-0500
TZNAME:CDT
DTSTART:20260308T080000
END:DAYLIGHT
BEGIN:STANDARD
TZOFFSETFROM:-0500
TZOFFSETTO:-0600
TZNAME:CST
DTSTART:20261101T070000
END:STANDARD
END:VTIMEZONE
BEGIN:VEVENT
DTSTART;TZID=America/Chicago:20260119T130000
DTEND;TZID=America/Chicago:20260119T140000
DTSTAMP:20260419T222242
CREATED:20251205T183543Z
LAST-MODIFIED:20251205T183543Z
UID:90365-1768827600-1768831200@montrosecenter.org
SUMMARY:Seated Beach Ball Pass
DESCRIPTION:This class for seniors offers gentle\, low-impact fun for all mobility levels. Move\, laugh and connect in the Law Harrington Senior Living Center’s 2nd floor fitness center. Sponsored by Motivation & Movement.  \n\n\n\n \n\n\n\nEmail snleota@montrosecenter.org if you have any questions.
URL:https://montrosecenter.org/event/seated-beach-ball-pass/2026-01-19/
LOCATION:Law Harrington Senior Housing\, 2222 Cleburne St.\, Houston\, TX\, 77004\, United States
CATEGORIES:Activities,Senior
GEO:29.729134;-95.3711129
X-APPLE-STRUCTURED-LOCATION;VALUE=URI;X-ADDRESS=Law Harrington Senior Housing 2222 Cleburne St. Houston TX 77004 United States;X-APPLE-RADIUS=500;X-TITLE=2222 Cleburne St.:geo:-95.3711129,29.729134
END:VEVENT
END:VCALENDAR