BEGIN:VCALENDAR
VERSION:2.0
PRODID:-//the Montrose Center - ECPv6.13.2//NONSGML v1.0//EN
CALSCALE:GREGORIAN
METHOD:PUBLISH
X-ORIGINAL-URL:https://montrosecenter.org
X-WR-CALDESC:Events for the Montrose Center
REFRESH-INTERVAL;VALUE=DURATION:PT1H
X-Robots-Tag:noindex
X-PUBLISHED-TTL:PT1H
BEGIN:VTIMEZONE
TZID:America/Chicago
BEGIN:DAYLIGHT
TZOFFSETFROM:-0600
TZOFFSETTO:-0500
TZNAME:CDT
DTSTART:20250309T080000
END:DAYLIGHT
BEGIN:STANDARD
TZOFFSETFROM:-0500
TZOFFSETTO:-0600
TZNAME:CST
DTSTART:20251102T070000
END:STANDARD
END:VTIMEZONE
BEGIN:VEVENT
DTSTART;TZID=America/Chicago:20251015T180000
DTEND;TZID=America/Chicago:20251015T193000
DTSTAMP:20260419T091126
CREATED:20251008T191622Z
LAST-MODIFIED:20251013T200538Z
UID:88404-1760551200-1760556600@montrosecenter.org
SUMMARY:ROCO Concert - Law Harrington
DESCRIPTION:ROCO’s Musicians With a Mission is offering a free concert for our senior community in the Law Harrington Senior Living Library. Clarinetists\, Nathan Williams and Maiko Sasaki\, will be playing classical music and sharing a short history of each tune.  \n\n\n\nThe program will be as follows:  \n\n\n\n\nDuetto I: Allegro moderato – Bernard Crusell (1775 – 1838)\n\n\n\nSonata No. 1: Vivace – George Philipp Telemann ( 1681 – 1767) \n\n\n\nTheme and Variations – Wolfgang Amadeus Mozart (1756 – 1791) \n\n\n\nHava Nagila – Traditional Jewish\, arranged by David McKeown\n\n\n\nSuite No. 1 in G major\, BWV 1007: Courante – Johan Sebastian Bach (1685 – 1750)\n\n\n\nHommage a J. S.  Bach – Bela Kovacs (1937 – 2021) \n\n\n\nGigue in B Minor – Johnahh Sebastian Bach (1685 – 1750)\n\n\n\nSonata: Vivo – Michele Mangani (b. 1966) \n\n\n\n\nSPRY (Seniors Preparing for Rainbow Years) offers free events and enriching programs for LGBTQ+ adults 60+\, including social activities\, health presentations\, educational workshops\, and more. If you’re not signed up yet\, just complete a quick registration form at our next event or call us at (713) 485-5084 or email snleota@montrosecenter.org to learn more.
URL:https://montrosecenter.org/event/roco-concert/
LOCATION:the Law Harrington Senior Living Center\, 2222 Cleburne St\, 2nd Floor\, Houston\, TX\, 77004\, United States
CATEGORIES:Activities,Senior
GEO:29.729134;-95.3711129
X-APPLE-STRUCTURED-LOCATION;VALUE=URI;X-ADDRESS=the Law Harrington Senior Living Center 2222 Cleburne St 2nd Floor Houston TX 77004 United States;X-APPLE-RADIUS=500;X-TITLE=2222 Cleburne St\, 2nd Floor:geo:-95.3711129,29.729134
END:VEVENT
END:VCALENDAR