BEGIN:VCALENDAR
VERSION:2.0
PRODID:-//the Montrose Center - ECPv6.13.2//NONSGML v1.0//EN
CALSCALE:GREGORIAN
METHOD:PUBLISH
X-WR-CALNAME:the Montrose Center
X-ORIGINAL-URL:https://montrosecenter.org
X-WR-CALDESC:Events for the Montrose Center
REFRESH-INTERVAL;VALUE=DURATION:PT1H
X-Robots-Tag:noindex
X-PUBLISHED-TTL:PT1H
BEGIN:VTIMEZONE
TZID:America/Chicago
BEGIN:DAYLIGHT
TZOFFSETFROM:-0600
TZOFFSETTO:-0500
TZNAME:CDT
DTSTART:20250309T080000
END:DAYLIGHT
BEGIN:STANDARD
TZOFFSETFROM:-0500
TZOFFSETTO:-0600
TZNAME:CST
DTSTART:20251102T070000
END:STANDARD
END:VTIMEZONE
BEGIN:VEVENT
DTSTART;TZID=America/Chicago:20251010T130000
DTEND;TZID=America/Chicago:20251010T150000
DTSTAMP:20260419T221643
CREATED:20251008T155255Z
LAST-MODIFIED:20251008T162935Z
UID:88383-1760101200-1760108400@montrosecenter.org
SUMMARY:LGBTQ+ Senior Movie Day
DESCRIPTION:Join the Senior Services Team for our monthly Movie Day at Law Harrington Senior Living Center! \n\n\n\nEnjoy free popcorn and connect with fellow seniors in our cozy 2nd floor library.  \n\n\n\nOctober’s movie is The Rocky Horror Picture Show.
URL:https://montrosecenter.org/event/senior-movie-day/
LOCATION:the Law Harrington Senior Living Center\, 2222 Cleburne St\, 2nd Floor\, Houston\, TX\, 77004\, United States
CATEGORIES:Activities,Senior
GEO:29.729134;-95.3711129
X-APPLE-STRUCTURED-LOCATION;VALUE=URI;X-ADDRESS=the Law Harrington Senior Living Center 2222 Cleburne St 2nd Floor Houston TX 77004 United States;X-APPLE-RADIUS=500;X-TITLE=2222 Cleburne St\, 2nd Floor:geo:-95.3711129,29.729134
END:VEVENT
END:VCALENDAR