BEGIN:VCALENDAR
VERSION:2.0
PRODID:-//the Montrose Center - ECPv6.13.2//NONSGML v1.0//EN
CALSCALE:GREGORIAN
METHOD:PUBLISH
X-ORIGINAL-URL:https://montrosecenter.org
X-WR-CALDESC:Events for the Montrose Center
REFRESH-INTERVAL;VALUE=DURATION:PT1H
X-Robots-Tag:noindex
X-PUBLISHED-TTL:PT1H
BEGIN:VTIMEZONE
TZID:America/Chicago
BEGIN:DAYLIGHT
TZOFFSETFROM:-0600
TZOFFSETTO:-0500
TZNAME:CDT
DTSTART:20260308T080000
END:DAYLIGHT
BEGIN:STANDARD
TZOFFSETFROM:-0500
TZOFFSETTO:-0600
TZNAME:CST
DTSTART:20261101T070000
END:STANDARD
END:VTIMEZONE
BEGIN:VEVENT
DTSTART;TZID=America/Chicago:20260516T090000
DTEND;TZID=America/Chicago:20260516T100000
DTSTAMP:20260421T151554
CREATED:20260418T163415Z
LAST-MODIFIED:20260418T173113Z
UID:93985-1778922000-1778925600@montrosecenter.org
SUMMARY:TLACT Legal Clinic
DESCRIPTION:Join Trans Legal Aid Clinic Texas for the opportunity to meet with volunteer attorneys. The attorneys will assist with getting your documents in order to file for a legal name change. You must register. For more information\, contact: info@translegalaidtx.com.
URL:https://montrosecenter.org/event/tlact-legal-clinic/
CATEGORIES:FALSE
END:VEVENT
BEGIN:VEVENT
DTSTART;TZID=America/Chicago:20260516T100000
DTEND;TZID=America/Chicago:20260516T100100
DTSTAMP:20260421T151554
CREATED:20260418T161717Z
LAST-MODIFIED:20260418T173846Z
UID:93957-1778925600-1778925660@montrosecenter.org
SUMMARY:H12 Business Meeting
DESCRIPTION:H12 Business Meeting
URL:https://montrosecenter.org/event/h12-business-meeting/
CATEGORIES:FALSE
END:VEVENT
END:VCALENDAR