BEGIN:VCALENDAR
VERSION:2.0
PRODID:-//the Montrose Center - ECPv6.13.2//NONSGML v1.0//EN
CALSCALE:GREGORIAN
METHOD:PUBLISH
X-ORIGINAL-URL:https://montrosecenter.org
X-WR-CALDESC:Events for the Montrose Center
REFRESH-INTERVAL;VALUE=DURATION:PT1H
X-Robots-Tag:noindex
X-PUBLISHED-TTL:PT1H
BEGIN:VTIMEZONE
TZID:America/Chicago
BEGIN:DAYLIGHT
TZOFFSETFROM:-0600
TZOFFSETTO:-0500
TZNAME:CDT
DTSTART:20260308T080000
END:DAYLIGHT
BEGIN:STANDARD
TZOFFSETFROM:-0500
TZOFFSETTO:-0600
TZNAME:CST
DTSTART:20261101T070000
END:STANDARD
END:VTIMEZONE
BEGIN:VEVENT
DTSTART;TZID=America/Chicago:20260218T180000
DTEND;TZID=America/Chicago:20260218T200000
DTSTAMP:20260421T032112
CREATED:20260210T202606Z
LAST-MODIFIED:20260210T202711Z
UID:92874-1771437600-1771444800@montrosecenter.org
SUMMARY:Blooming Anyway - 107
DESCRIPTION:Wellness Wednesday February\n                            Join us every 3rd Wednesday of the month at the Montrose Center for a Wellness workshop. In a time of uncertainty\, many of us are carrying a lot—grief\, anger\, fear\, and fatigue. Blooming Anyway: A Queer Community Healing Space is a therapist-led\, confidential community session hosted by the Montrose Center\, created for LGBTQ+ folks to process the current state of our world in a supportive\, affirming space. This session serves as a follow-up to the Greater Houston LGBTQ+ Community Summit and is open to those who attended the summit as well as those who missed it and are seeking connection\, grounding\, and mental health support. Come as you are and find community\, care\, and shared understanding. \n                        \n                        Name(Required)\n                            \n                            \n                                                    First\n                                                    \n                                                \n                            \n                            \n                                                            Last\n                                                            \n                                                        \n                            \n                        Email(Required)\n                                \n                                    Enter Email\n                                    \n                                \n                                \n                                    Confirm Email\n                                    \n                                \n                                \n                            Subscribe to upcoming Montrose Center events? YesInterested in volunteering for a Wellness Wednesday? Yes
URL:https://montrosecenter.org/event/ww0226/
CATEGORIES:At the Center,Community Events
ATTACH;FMTTYPE=image/jpeg:https://montrosecenter.org/wp-content/uploads/2026/02/Gravity-Banners-2.jpg
END:VEVENT
BEGIN:VEVENT
DTSTART;TZID=America/Chicago:20260218T183000
DTEND;TZID=America/Chicago:20260218T193000
DTSTAMP:20260421T032112
CREATED:20260116T041122Z
LAST-MODIFIED:20260116T041122Z
UID:91575-1771439400-1771443000@montrosecenter.org
SUMMARY:The Sooner The Better Group of Narcotics Anonymous - 110
DESCRIPTION:The Sooner The Better Group of Narcotics Anonymous is an organization for addicts that have a desire to stop using and to help each other stay clean. The group promotes the inclusion of all\, including the LGBT community.R. Luna
URL:https://montrosecenter.org/event/the-sooner-the-better-group-of-narcotics-anonymous-110-20/2026-02-18/
CATEGORIES:At the Center,Community Events,Support Groups
END:VEVENT
BEGIN:VEVENT
DTSTART;TZID=America/Chicago:20260218T183000
DTEND;TZID=America/Chicago:20260218T203000
DTSTAMP:20260421T032112
CREATED:20260116T042339Z
LAST-MODIFIED:20260122T004655Z
UID:91733-1771439400-1771446600@montrosecenter.org
SUMMARY:Coming Out Support Group - 111
DESCRIPTION:Whether you’re still in the closet or have recently come out\, the Coming Out Support Group is a safe\, affirming place to share your thoughts and feelings about the coming out process. It is also a good place to build your support network\, ask questions\, and learn about resources that might benefit you as a gay\, lesbian\, bisexual or transgender person. You don’t have to do this alone! Attendance is free. \n\n\n\nYou must be 18 or older to attend this group.H. Owsley
URL:https://montrosecenter.org/event/coming-out-support-group-111/2026-02-18/
CATEGORIES:At the Center,Community Events,Support Groups
END:VEVENT
BEGIN:VEVENT
DTSTART;TZID=America/Chicago:20260218T200000
DTEND;TZID=America/Chicago:20260218T210000
DTSTAMP:20260421T032112
CREATED:20260116T035335Z
LAST-MODIFIED:20260116T035335Z
UID:91394-1771444800-1771448400@montrosecenter.org
SUMMARY:S&LAA - 114
DESCRIPTION:Helping the LGBTQIA members recover from sex and love addiction from a 12-Step lens.J. Gelehrte
URL:https://montrosecenter.org/event/slaa-114-2/2026-02-18/
CATEGORIES:At the Center,Community Events,Support Groups
END:VEVENT
END:VCALENDAR