BEGIN:VCALENDAR
VERSION:2.0
PRODID:-//the Montrose Center - ECPv6.15.20//NONSGML v1.0//EN
CALSCALE:GREGORIAN
METHOD:PUBLISH
X-WR-CALNAME:the Montrose Center
X-ORIGINAL-URL:https://montrosecenter.org
X-WR-CALDESC:Events for the Montrose Center
REFRESH-INTERVAL;VALUE=DURATION:PT1H
X-Robots-Tag:noindex
X-PUBLISHED-TTL:PT1H
BEGIN:VTIMEZONE
TZID:America/Chicago
BEGIN:DAYLIGHT
TZOFFSETFROM:-0600
TZOFFSETTO:-0500
TZNAME:CDT
DTSTART:20240310T080000
END:DAYLIGHT
BEGIN:STANDARD
TZOFFSETFROM:-0500
TZOFFSETTO:-0600
TZNAME:CST
DTSTART:20241103T070000
END:STANDARD
BEGIN:DAYLIGHT
TZOFFSETFROM:-0600
TZOFFSETTO:-0500
TZNAME:CDT
DTSTART:20250309T080000
END:DAYLIGHT
BEGIN:STANDARD
TZOFFSETFROM:-0500
TZOFFSETTO:-0600
TZNAME:CST
DTSTART:20251102T070000
END:STANDARD
BEGIN:DAYLIGHT
TZOFFSETFROM:-0600
TZOFFSETTO:-0500
TZNAME:CDT
DTSTART:20260308T080000
END:DAYLIGHT
BEGIN:STANDARD
TZOFFSETFROM:-0500
TZOFFSETTO:-0600
TZNAME:CST
DTSTART:20261101T070000
END:STANDARD
END:VTIMEZONE
BEGIN:VEVENT
DTSTART;TZID=America/Chicago:20251209T190000
DTEND;TZID=America/Chicago:20251209T203000
DTSTAMP:20260425T180051
CREATED:20241213T172041Z
LAST-MODIFIED:20241213T172041Z
UID:79479-1765306800-1765312200@montrosecenter.org
SUMMARY:LGBTQIA+ Evening - 111
DESCRIPTION:Open to the LGBTQIA+ population and their family members only (18 and over) experiencing signs and symptoms of\, or diagnosed with\, depression\, anxiety\, or bipolar disorders. These groups are free and confidential. Our groups are open to anyone living in Harris\, Fort Bend\, Montgomery\, Brazoria or Galveston Counties. \n\n\n\nIn our support groups we:· Provide a compassionate environment of peers who accept and understand each other.· Provide participants with support and the necessary tools needed to assist them in living more meaningful and healthy lives. \n\n\n\nPlease note:– Length: 90 minutes– No registration neededL. Little
URL:https://montrosecenter.org/event/lgbtqia-evening-111/2025-12-09/
CATEGORIES:At the Center,Community Events
END:VEVENT
BEGIN:VEVENT
DTSTART;TZID=America/Chicago:20251209T190000
DTEND;TZID=America/Chicago:20251209T203000
DTSTAMP:20260425T180051
CREATED:20250212T214035Z
LAST-MODIFIED:20250407T231306Z
UID:82440-1765306800-1765312200@montrosecenter.org
SUMMARY:re:MIND Depression and Bipolar Support Group - LGBTQIA+ Evening - 114
DESCRIPTION:Open to the LGBTQIA+ population and their family members only (18 and over) experiencing signs and symptoms of\, or diagnosed with\, depression\, anxiety\, or bipolar disorders. These groups are free and confidential. Our groups are open to anyone living in Harris\, Fort Bend\, Montgomery\, Brazoria or Galveston Counties. \n\n\n\nIn our support groups we:· Provide a compassionate environment of peers who accept and understand each other.· Provide participants with support and the necessary tools needed to assist them in living more meaningful and healthy lives. \n\n\n\nPlease note:– Length: 90 minutes– No registration neededL. Little
URL:https://montrosecenter.org/event/lgbtqia-evening-114-2/2025-12-09/
CATEGORIES:At the Center,Community Events
END:VEVENT
END:VCALENDAR