BEGIN:VCALENDAR
VERSION:2.0
PRODID:-//the Montrose Center - ECPv6.15.20//NONSGML v1.0//EN
CALSCALE:GREGORIAN
METHOD:PUBLISH
X-ORIGINAL-URL:https://montrosecenter.org
X-WR-CALDESC:Events for the Montrose Center
REFRESH-INTERVAL;VALUE=DURATION:PT1H
X-Robots-Tag:noindex
X-PUBLISHED-TTL:PT1H
BEGIN:VTIMEZONE
TZID:America/Chicago
BEGIN:DAYLIGHT
TZOFFSETFROM:-0600
TZOFFSETTO:-0500
TZNAME:CDT
DTSTART:20250309T080000
END:DAYLIGHT
BEGIN:STANDARD
TZOFFSETFROM:-0500
TZOFFSETTO:-0600
TZNAME:CST
DTSTART:20251102T070000
END:STANDARD
BEGIN:DAYLIGHT
TZOFFSETFROM:-0600
TZOFFSETTO:-0500
TZNAME:CDT
DTSTART:20260308T080000
END:DAYLIGHT
BEGIN:STANDARD
TZOFFSETFROM:-0500
TZOFFSETTO:-0600
TZNAME:CST
DTSTART:20261101T070000
END:STANDARD
BEGIN:DAYLIGHT
TZOFFSETFROM:-0600
TZOFFSETTO:-0500
TZNAME:CDT
DTSTART:20270314T080000
END:DAYLIGHT
BEGIN:STANDARD
TZOFFSETFROM:-0500
TZOFFSETTO:-0600
TZNAME:CST
DTSTART:20271107T070000
END:STANDARD
END:VTIMEZONE
BEGIN:VEVENT
DTSTART;TZID=America/Chicago:20260708T183000
DTEND;TZID=America/Chicago:20260708T193000
DTSTAMP:20260425T081807
CREATED:20260116T041122Z
LAST-MODIFIED:20260116T041122Z
UID:91595-1783535400-1783539000@montrosecenter.org
SUMMARY:The Sooner The Better Group of Narcotics Anonymous - 110
DESCRIPTION:The Sooner The Better Group of Narcotics Anonymous is an organization for addicts that have a desire to stop using and to help each other stay clean. The group promotes the inclusion of all\, including the LGBT community.R. Luna
URL:https://montrosecenter.org/event/the-sooner-the-better-group-of-narcotics-anonymous-110-20/2026-07-08/
CATEGORIES:At the Center,Community Events,Support Groups
END:VEVENT
BEGIN:VEVENT
DTSTART;TZID=America/Chicago:20260708T183000
DTEND;TZID=America/Chicago:20260708T200000
DTSTAMP:20260425T081807
CREATED:20260120T033610Z
LAST-MODIFIED:20260120T033610Z
UID:92259-1783535400-1783540800@montrosecenter.org
SUMMARY:Trans Voices Houston Support Group - 114
DESCRIPTION:Our Monthly Discussion Group provides a safe\, peer-led space for trans and nonbinary individuals to share experiences\, build community\, and discuss topics relevant to our lives. The goal is to foster connection\, empowerment\, and mutual support in a welcoming environment. \n\n\n\nE. North
URL:https://montrosecenter.org/event/trans-voices-houston-support-group-114-7/2026-07-08/
CATEGORIES:At the Center,Support Groups
END:VEVENT
BEGIN:VEVENT
DTSTART;TZID=America/Chicago:20260708T183000
DTEND;TZID=America/Chicago:20260708T203000
DTSTAMP:20260425T081807
CREATED:20260116T042339Z
LAST-MODIFIED:20260122T004715Z
UID:91753-1783535400-1783542600@montrosecenter.org
SUMMARY:Coming Out Support Group - 111
DESCRIPTION:Whether you’re still in the closet or have recently come out\, the Coming Out Support Group is a safe\, affirming place to share your thoughts and feelings about the coming out process. It is also a good place to build your support network\, ask questions\, and learn about resources that might benefit you as a gay\, lesbian\, bisexual or transgender person. You don’t have to do this alone! Attendance is free. \n\n\n\nYou must be 18 or older to attend this group.H. Owsley
URL:https://montrosecenter.org/event/coming-out-support-group-111/2026-07-08/
CATEGORIES:At the Center,Community Events,Support Groups
END:VEVENT
BEGIN:VEVENT
DTSTART;TZID=America/Chicago:20260708T200000
DTEND;TZID=America/Chicago:20260708T210000
DTSTAMP:20260425T081807
CREATED:20260116T035335Z
LAST-MODIFIED:20260116T035335Z
UID:91414-1783540800-1783544400@montrosecenter.org
SUMMARY:S&LAA - 114
DESCRIPTION:Helping the LGBTQIA members recover from sex and love addiction from a 12-Step lens.J. Gelehrte
URL:https://montrosecenter.org/event/slaa-114-2/2026-07-08/
CATEGORIES:At the Center,Community Events,Support Groups
END:VEVENT
BEGIN:VEVENT
DTSTART;TZID=America/Chicago:20260708T201500
DTEND;TZID=America/Chicago:20260708T211500
DTSTAMP:20260425T081807
CREATED:20220826T013348Z
LAST-MODIFIED:20220826T013348Z
UID:73154-1783541700-1783545300@montrosecenter.org
SUMMARY:Ice Breakers Crystal Meth Anonymous - 110
DESCRIPTION:
URL:https://montrosecenter.org/event/ice-breakers-crystal-meth-anonymous-110-19-2026-07-08/
CATEGORIES:Wellness
END:VEVENT
END:VCALENDAR