BEGIN:VCALENDAR
VERSION:2.0
PRODID:-//the Montrose Center - ECPv6.13.2//NONSGML v1.0//EN
CALSCALE:GREGORIAN
METHOD:PUBLISH
X-ORIGINAL-URL:https://montrosecenter.org
X-WR-CALDESC:Events for the Montrose Center
REFRESH-INTERVAL;VALUE=DURATION:PT1H
X-Robots-Tag:noindex
X-PUBLISHED-TTL:PT1H
BEGIN:VTIMEZONE
TZID:America/Chicago
BEGIN:DAYLIGHT
TZOFFSETFROM:-0600
TZOFFSETTO:-0500
TZNAME:CDT
DTSTART:20250309T080000
END:DAYLIGHT
BEGIN:STANDARD
TZOFFSETFROM:-0500
TZOFFSETTO:-0600
TZNAME:CST
DTSTART:20251102T070000
END:STANDARD
END:VTIMEZONE
BEGIN:VEVENT
DTSTART;TZID=America/Chicago:20250120T190000
DTEND;TZID=America/Chicago:20250120T200000
DTSTAMP:20260419T213603
CREATED:20241210T212758Z
LAST-MODIFIED:20241210T212800Z
UID:78661-1737399600-1737403200@montrosecenter.org
SUMMARY:Monthly Scriptwriters Meeting* - 111
DESCRIPTION:The meetings are for members to come together and discuss the art and business behind stage and screenplay writing and production. We present short readings\, discussions\, and speakers from the theatre and writing community. For more information about membership\, please visit https://www.scriptwriters-houston.org.
URL:https://montrosecenter.org/event/monthly-scriptwriters-meeting-111/2025-01-20/
CATEGORIES:At the Center
END:VEVENT
BEGIN:VEVENT
DTSTART;TZID=America/Chicago:20250120T193000
DTEND;TZID=America/Chicago:20250120T203000
DTSTAMP:20260419T213603
CREATED:20250210T115752Z
LAST-MODIFIED:20250210T115752Z
UID:81695-1737401400-1737405000@montrosecenter.org
SUMMARY:Houston Transgender Support Group - 106
DESCRIPTION:The Houston Transgender Support Group is an in-person support group that meets every other Monday at 7:30 p.m. The group is a safe space for transgender adults\, those questioning and their support. The group is led by a moderator with a topic each week that is followed by an open forum.J. Gunning
URL:https://montrosecenter.org/event/houston-transgender-support-group-106/2025-01-20/
CATEGORIES:At the Center,Community Events
END:VEVENT
END:VCALENDAR