BEGIN:VCALENDAR
VERSION:2.0
PRODID:-//the Montrose Center - ECPv6.13.2//NONSGML v1.0//EN
CALSCALE:GREGORIAN
METHOD:PUBLISH
X-WR-CALNAME:the Montrose Center
X-ORIGINAL-URL:https://montrosecenter.org
X-WR-CALDESC:Events for the Montrose Center
REFRESH-INTERVAL;VALUE=DURATION:PT1H
X-Robots-Tag:noindex
X-PUBLISHED-TTL:PT1H
BEGIN:VTIMEZONE
TZID:America/Chicago
BEGIN:DAYLIGHT
TZOFFSETFROM:-0600
TZOFFSETTO:-0500
TZNAME:CDT
DTSTART:20250309T080000
END:DAYLIGHT
BEGIN:STANDARD
TZOFFSETFROM:-0500
TZOFFSETTO:-0600
TZNAME:CST
DTSTART:20251102T070000
END:STANDARD
END:VTIMEZONE
BEGIN:VEVENT
DTSTART;TZID=America/Chicago:20250118T080000
DTEND;TZID=America/Chicago:20250118T181500
DTSTAMP:20260421T074724
CREATED:20241119T153039Z
LAST-MODIFIED:20241119T153041Z
UID:76774-1737187200-1737224100@montrosecenter.org
SUMMARY:HOLD: Event Set Up & Breakdown - 107
DESCRIPTION:
URL:https://montrosecenter.org/event/hold-event-set-up-breakdown-107/
CATEGORIES:At the Center,Community Center Private Events
END:VEVENT
BEGIN:VEVENT
DTSTART;TZID=America/Chicago:20250118T100000
DTEND;TZID=America/Chicago:20250118T113000
DTSTAMP:20260421T074724
CREATED:20250115T000328Z
LAST-MODIFIED:20250115T000330Z
UID:81264-1737194400-1737199800@montrosecenter.org
SUMMARY:Ladies of Valor #4 Meeting* - 111
DESCRIPTION:Ladies of Valor #4 Meeting\n\n\n\n\n\n \n\n\n\nBusiness Meeting\n\n\n\nA. McKentie
URL:https://montrosecenter.org/event/ladies-of-valor-4-meeting-111/
CATEGORIES:At the Center,Community Center Private Events
END:VEVENT
BEGIN:VEVENT
DTSTART;TZID=America/Chicago:20250118T110000
DTEND;TZID=America/Chicago:20250118T170000
DTSTAMP:20260421T074724
CREATED:20241119T152920Z
LAST-MODIFIED:20241119T152934Z
UID:76769-1737198000-1737219600@montrosecenter.org
SUMMARY:The HH Movement\, Inc's Stigma Stump HTX - 107
DESCRIPTION:This initiative is the first of its kind in Houston\, Texas to debunk the STIGMA behind Testing\, Healthcare and Mental Health in the LGBTQIA Community. The day will consist of invited nonprofit organizations for people of color to facilitate sessions throughout the day to discuss stigma related healthcare discussions and identify resources and referrals. \n\n\n\n*** We have worked with The Montrose Center previously and granted the amazing gift of having the space fee waived. We are inquiring if this is a possibility for this amazing inaugural event as well.*** \n\n\n\nFor more information\, please email Heavyhitterspride@gmail.com.  \n\n\n\nJ Hicks
URL:https://montrosecenter.org/event/the-hh-movement-incs-stigma-stump-htx-107/
CATEGORIES:At the Center
END:VEVENT
BEGIN:VEVENT
DTSTART;TZID=America/Chicago:20250118T113000
DTEND;TZID=America/Chicago:20250118T133000
DTSTAMP:20260421T074724
CREATED:20250115T211716Z
LAST-MODIFIED:20250115T211719Z
UID:81284-1737199800-1737207000@montrosecenter.org
SUMMARY:Regular Grand Chapter of Texas* - 111
DESCRIPTION:Annual community calendar review\n\n\n\nN. Baldwin
URL:https://montrosecenter.org/event/regular-grand-chapter-of-texas-111/
CATEGORIES:At the Center,Community Center Private Events
END:VEVENT
BEGIN:VEVENT
DTSTART;TZID=America/Chicago:20250118T113000
DTEND;TZID=America/Chicago:20250118T133000
DTSTAMP:20260421T074724
CREATED:20250116T205129Z
LAST-MODIFIED:20250116T205129Z
UID:81299-1737199800-1737207000@montrosecenter.org
SUMMARY:Regular Grand Chapter of Texas
DESCRIPTION:annual community calendar review
URL:https://montrosecenter.org/event/regular-grand-chapter-of-texas/
ATTACH;FMTTYPE=image/png:https://montrosecenter.org/wp-content/uploads/2022/12/placeholder.png
END:VEVENT
BEGIN:VEVENT
DTSTART;TZID=America/Chicago:20250118T130000
DTEND;TZID=America/Chicago:20250118T153000
DTSTAMP:20260421T074724
CREATED:20250115T002903Z
LAST-MODIFIED:20250115T002905Z
UID:81272-1737205200-1737214200@montrosecenter.org
SUMMARY:Dorcas Royal Ladies Business Meeting* - 114
DESCRIPTION:Business Meeting\n\n\n\nA. Greenhouse
URL:https://montrosecenter.org/event/dorcas-royal-ladies-business-meeting-114/
CATEGORIES:At the Center,Community Center Private Events
END:VEVENT
BEGIN:VEVENT
DTSTART;TZID=America/Chicago:20250118T130000
DTEND;TZID=America/Chicago:20250118T180000
DTSTAMP:20260421T074724
CREATED:20250102T163729Z
LAST-MODIFIED:20250102T170247Z
UID:80748-1737205200-1737223200@montrosecenter.org
SUMMARY:Private Event* - 106
DESCRIPTION:Private personal event for family and close friends on fellowship.\n\n\n\nA. Cooper
URL:https://montrosecenter.org/event/private-event-5/
CATEGORIES:At the Center,Community Center Private Events
END:VEVENT
BEGIN:VEVENT
DTSTART;TZID=America/Chicago:20250118T174500
DTEND;TZID=America/Chicago:20250118T211500
DTSTAMP:20260421T074724
CREATED:20250115T003207Z
LAST-MODIFIED:20250115T003208Z
UID:81274-1737222300-1737234900@montrosecenter.org
SUMMARY:TSTH Meeting and Game Night* - 114
DESCRIPTION:TSTH Meeting & Game Night\n\n\n\nN. Azathoth
URL:https://montrosecenter.org/event/tsth-meeting-and-game-night-114/
CATEGORIES:At the Center,Community Center Private Events
END:VEVENT
BEGIN:VEVENT
DTSTART;TZID=America/Chicago:20250118T174500
DTEND;TZID=America/Chicago:20250118T211500
DTSTAMP:20260421T074724
CREATED:20250117T194029Z
LAST-MODIFIED:20250117T194029Z
UID:81334-1737222300-1737234900@montrosecenter.org
SUMMARY:TSTH Meeting & Game Night
DESCRIPTION:TSTH Meeting & Game Night
URL:https://montrosecenter.org/event/tsth-meeting-game-night/
ATTACH;FMTTYPE=image/png:https://montrosecenter.org/wp-content/uploads/2022/12/placeholder.png
END:VEVENT
BEGIN:VEVENT
DTSTART;TZID=America/Chicago:20250118T190000
DTEND;TZID=America/Chicago:20250118T220000
DTSTAMP:20260421T074724
CREATED:20250115T210655Z
LAST-MODIFIED:20250115T210657Z
UID:81282-1737226800-1737237600@montrosecenter.org
SUMMARY:Bingo* - 111
DESCRIPTION:Annual Game NightD. Sweat
URL:https://montrosecenter.org/event/bingo-111/
CATEGORIES:At the Center,Community Center Private Events
END:VEVENT
END:VCALENDAR