BEGIN:VCALENDAR
VERSION:2.0
PRODID:-//the Montrose Center - ECPv6.15.20//NONSGML v1.0//EN
CALSCALE:GREGORIAN
METHOD:PUBLISH
X-WR-CALNAME:the Montrose Center
X-ORIGINAL-URL:https://montrosecenter.org
X-WR-CALDESC:Events for the Montrose Center
REFRESH-INTERVAL;VALUE=DURATION:PT1H
X-Robots-Tag:noindex
X-PUBLISHED-TTL:PT1H
BEGIN:VTIMEZONE
TZID:America/Chicago
BEGIN:DAYLIGHT
TZOFFSETFROM:-0600
TZOFFSETTO:-0500
TZNAME:CDT
DTSTART:20240310T080000
END:DAYLIGHT
BEGIN:STANDARD
TZOFFSETFROM:-0500
TZOFFSETTO:-0600
TZNAME:CST
DTSTART:20241103T070000
END:STANDARD
BEGIN:DAYLIGHT
TZOFFSETFROM:-0600
TZOFFSETTO:-0500
TZNAME:CDT
DTSTART:20250309T080000
END:DAYLIGHT
BEGIN:STANDARD
TZOFFSETFROM:-0500
TZOFFSETTO:-0600
TZNAME:CST
DTSTART:20251102T070000
END:STANDARD
BEGIN:DAYLIGHT
TZOFFSETFROM:-0600
TZOFFSETTO:-0500
TZNAME:CDT
DTSTART:20260308T080000
END:DAYLIGHT
BEGIN:STANDARD
TZOFFSETFROM:-0500
TZOFFSETTO:-0600
TZNAME:CST
DTSTART:20261101T070000
END:STANDARD
END:VTIMEZONE
BEGIN:VEVENT
DTSTART;TZID=America/Chicago:20250117T130000
DTEND;TZID=America/Chicago:20250117T160000
DTSTAMP:20260425T052655
CREATED:20250116T164421Z
LAST-MODIFIED:20250116T164423Z
UID:81294-1737118800-1737129600@montrosecenter.org
SUMMARY:Volunteer Project* - 327
DESCRIPTION:Hosted by T. Converse
URL:https://montrosecenter.org/event/volunteer-project-327/
CATEGORIES:At the Center,Community Center Private Events
END:VEVENT
BEGIN:VEVENT
DTSTART;TZID=America/Chicago:20250117T180000
DTEND;TZID=America/Chicago:20250117T203000
DTSTAMP:20260425T052655
CREATED:20241212T214831Z
LAST-MODIFIED:20241212T214833Z
UID:79006-1737136800-1737145800@montrosecenter.org
SUMMARY:The Houston Harriers Pasta Dinner - 106 & 107
DESCRIPTION:The Houston Harriers pre-marathon pasta dinner with special guest (TBA). We will carb load and enjoy the company of other runners as we gear up for Sunday’s race! S. Cherington
URL:https://montrosecenter.org/event/the-houston-harriers-pasta-dinner-106-107/
CATEGORIES:At the Center,Community Events
END:VEVENT
BEGIN:VEVENT
DTSTART;TZID=America/Chicago:20250117T190000
DTEND;TZID=America/Chicago:20250117T210000
DTSTAMP:20260425T052655
CREATED:20250114T235626Z
LAST-MODIFIED:20250114T235627Z
UID:81262-1737140400-1737147600@montrosecenter.org
SUMMARY:Business Meeting* - 111
DESCRIPTION:MONTHLY BUSINESS MEETING\n\n\n\nA. McKentie
URL:https://montrosecenter.org/event/business-meeting-111-6/
CATEGORIES:At the Center,Community Center Private Events
END:VEVENT
BEGIN:VEVENT
DTSTART;TZID=America/Chicago:20250117T190000
DTEND;TZID=America/Chicago:20250117T210000
DTSTAMP:20260425T052655
CREATED:20250116T042628Z
LAST-MODIFIED:20250116T042628Z
UID:81287-1737140400-1737147600@montrosecenter.org
SUMMARY:BUISNESS MEETING
DESCRIPTION:MONTHLY BUSINESS MEETING
URL:https://montrosecenter.org/event/buisness-meeting/
ATTACH;FMTTYPE=image/png:https://montrosecenter.org/wp-content/uploads/2022/12/placeholder.png
END:VEVENT
END:VCALENDAR