BEGIN:VCALENDAR
VERSION:2.0
PRODID:-//the Montrose Center - ECPv6.15.20//NONSGML v1.0//EN
CALSCALE:GREGORIAN
METHOD:PUBLISH
X-WR-CALNAME:the Montrose Center
X-ORIGINAL-URL:https://montrosecenter.org
X-WR-CALDESC:Events for the Montrose Center
REFRESH-INTERVAL;VALUE=DURATION:PT1H
X-Robots-Tag:noindex
X-PUBLISHED-TTL:PT1H
BEGIN:VTIMEZONE
TZID:America/Chicago
BEGIN:DAYLIGHT
TZOFFSETFROM:-0600
TZOFFSETTO:-0500
TZNAME:CDT
DTSTART:20230312T080000
END:DAYLIGHT
BEGIN:STANDARD
TZOFFSETFROM:-0500
TZOFFSETTO:-0600
TZNAME:CST
DTSTART:20231105T070000
END:STANDARD
BEGIN:DAYLIGHT
TZOFFSETFROM:-0600
TZOFFSETTO:-0500
TZNAME:CDT
DTSTART:20240310T080000
END:DAYLIGHT
BEGIN:STANDARD
TZOFFSETFROM:-0500
TZOFFSETTO:-0600
TZNAME:CST
DTSTART:20241103T070000
END:STANDARD
BEGIN:DAYLIGHT
TZOFFSETFROM:-0600
TZOFFSETTO:-0500
TZNAME:CDT
DTSTART:20250309T080000
END:DAYLIGHT
BEGIN:STANDARD
TZOFFSETFROM:-0500
TZOFFSETTO:-0600
TZNAME:CST
DTSTART:20251102T070000
END:STANDARD
END:VTIMEZONE
BEGIN:VEVENT
DTSTART;TZID=America/Chicago:20241220T140000
DTEND;TZID=America/Chicago:20241220T170000
DTSTAMP:20260425T162812
CREATED:20241218T145514Z
LAST-MODIFIED:20241218T145516Z
UID:79689-1734703200-1734714000@montrosecenter.org
SUMMARY:Volunteer Project* - 111
DESCRIPTION:Development End of Year Mailing Campaign – T. Converse
URL:https://montrosecenter.org/event/volunteer-project-111/
CATEGORIES:At the Center,Community Center Private Events
END:VEVENT
BEGIN:VEVENT
DTSTART;TZID=America/Chicago:20241220T140000
DTEND;TZID=America/Chicago:20241220T170000
DTSTAMP:20260425T162812
CREATED:20241220T163016Z
LAST-MODIFIED:20241220T163016Z
UID:79996-1734703200-1734714000@montrosecenter.org
SUMMARY:Volunteer Project
DESCRIPTION:Development End-of-Year Mailing Campaign
URL:https://montrosecenter.org/event/volunteer-project/
ATTACH;FMTTYPE=image/png:https://montrosecenter.org/wp-content/uploads/2022/12/placeholder.png
END:VEVENT
BEGIN:VEVENT
DTSTART;TZID=America/Chicago:20241220T170000
DTEND;TZID=America/Chicago:20241220T190000
DTSTAMP:20260425T162812
CREATED:20241220T142831Z
LAST-MODIFIED:20241220T142833Z
UID:79989-1734714000-1734721200@montrosecenter.org
SUMMARY:JVP Potluck* - 112/113
DESCRIPTION:Gathering for local Jewish Voice for Peace members to celebrate Shabbat and Hanukkah. S Hamer
URL:https://montrosecenter.org/event/jvp-potluck-112-113/
CATEGORIES:At the Center,Community Center Private Events
END:VEVENT
END:VCALENDAR