BEGIN:VCALENDAR
VERSION:2.0
PRODID:-//the Montrose Center - ECPv6.15.20//NONSGML v1.0//EN
CALSCALE:GREGORIAN
METHOD:PUBLISH
X-WR-CALNAME:the Montrose Center
X-ORIGINAL-URL:https://montrosecenter.org
X-WR-CALDESC:Events for the Montrose Center
REFRESH-INTERVAL;VALUE=DURATION:PT1H
X-Robots-Tag:noindex
X-PUBLISHED-TTL:PT1H
BEGIN:VTIMEZONE
TZID:America/Chicago
BEGIN:DAYLIGHT
TZOFFSETFROM:-0600
TZOFFSETTO:-0500
TZNAME:CDT
DTSTART:20230312T080000
END:DAYLIGHT
BEGIN:STANDARD
TZOFFSETFROM:-0500
TZOFFSETTO:-0600
TZNAME:CST
DTSTART:20231105T070000
END:STANDARD
BEGIN:DAYLIGHT
TZOFFSETFROM:-0600
TZOFFSETTO:-0500
TZNAME:CDT
DTSTART:20240310T080000
END:DAYLIGHT
BEGIN:STANDARD
TZOFFSETFROM:-0500
TZOFFSETTO:-0600
TZNAME:CST
DTSTART:20241103T070000
END:STANDARD
BEGIN:DAYLIGHT
TZOFFSETFROM:-0600
TZOFFSETTO:-0500
TZNAME:CDT
DTSTART:20250309T080000
END:DAYLIGHT
BEGIN:STANDARD
TZOFFSETFROM:-0500
TZOFFSETTO:-0600
TZNAME:CST
DTSTART:20251102T070000
END:STANDARD
END:VTIMEZONE
BEGIN:VEVENT
DTSTART;TZID=America/Chicago:20241201T080000
DTEND;TZID=America/Chicago:20241201T100000
DTSTAMP:20260425T075639
CREATED:20241126T140816Z
LAST-MODIFIED:20241126T140821Z
UID:76849-1733040000-1733047200@montrosecenter.org
SUMMARY:Houston Oasis* - 106
DESCRIPTION:Event set up
URL:https://montrosecenter.org/event/houston-oasis-106/
CATEGORIES:At the Center,Community Center Private Events
END:VEVENT
BEGIN:VEVENT
DTSTART;TZID=America/Chicago:20241201T090000
DTEND;TZID=America/Chicago:20241201T160000
DTSTAMP:20260425T075639
CREATED:20241126T230117Z
LAST-MODIFIED:20241126T230117Z
UID:76866-1733043600-1733068800@montrosecenter.org
SUMMARY:Space City Pride FC Board Workshop
DESCRIPTION:Annual planning workshop for Space City Pride FC
URL:https://montrosecenter.org/event/space-city-pride-fc-board-workshop/
ATTACH;FMTTYPE=image/png:https://montrosecenter.org/wp-content/uploads/2022/12/placeholder.png
END:VEVENT
BEGIN:VEVENT
DTSTART;TZID=America/Chicago:20241201T100000
DTEND;TZID=America/Chicago:20241201T123000
DTSTAMP:20260425T075639
CREATED:20240818T205914Z
LAST-MODIFIED:20240818T205919Z
UID:74732-1733047200-1733056200@montrosecenter.org
SUMMARY:Houston Oasis Sunday Gathering - 106
DESCRIPTION:Houston Oasis is a secular community that meets weekly on Sunday mornings to enjoy fascinating talks\, live music\, and conversation. We are part of the Oasis Network of secular communities. You can learn more at http://www.HoustonOasis.org These five core values define the Oasis community: -People are more important than beliefs-Reality is known through reason-Meaning comes from making a difference-Human hands solve human problems-Be accepting and be accepted
URL:https://montrosecenter.org/event/houston-oasis-sunday-gathering-106-23/2024-12-01/
CATEGORIES:At the Center
END:VEVENT
BEGIN:VEVENT
DTSTART;TZID=America/Chicago:20241201T100000
DTEND;TZID=America/Chicago:20241201T123000
DTSTAMP:20260425T075639
CREATED:20240828T123722Z
LAST-MODIFIED:20240828T124436Z
UID:75049-1733047200-1733056200@montrosecenter.org
SUMMARY:Houston Oasis Sunday Gathering* - 111
DESCRIPTION:Houston Oasis is a secular community that meets weekly on Sunday mornings to enjoy fascinating talks\, live music\, and conversation. We are part of the Oasis Network of secular communities. You can learn more at http://www.HoustonOasis.org These five core values define the Oasis community: -People are more important than beliefs-Reality is known through reason-Meaning comes from making a difference-Human hands solve human problems-Be accepting and be accepted
URL:https://montrosecenter.org/event/houston-oasis-sunday-gathering-111/2024-12-01/
CATEGORIES:At the Center,Community Center Private Events
END:VEVENT
BEGIN:VEVENT
DTSTART;TZID=America/Chicago:20241201T110000
DTEND;TZID=America/Chicago:20241201T160000
DTSTAMP:20260425T075639
CREATED:20241126T140939Z
LAST-MODIFIED:20241126T140942Z
UID:76851-1733050800-1733068800@montrosecenter.org
SUMMARY:Space City Pride FC Board Workshop* - 114
DESCRIPTION:Annual planning workshop for Space City Pride FC.    S Olsen
URL:https://montrosecenter.org/event/space-city-pride-fc-board-workshop-114/
CATEGORIES:At the Center,Community Center Private Events
END:VEVENT
END:VCALENDAR