BEGIN:VCALENDAR
VERSION:2.0
PRODID:-//the Montrose Center - ECPv6.13.2//NONSGML v1.0//EN
CALSCALE:GREGORIAN
METHOD:PUBLISH
X-WR-CALNAME:the Montrose Center
X-ORIGINAL-URL:https://montrosecenter.org
X-WR-CALDESC:Events for the Montrose Center
REFRESH-INTERVAL;VALUE=DURATION:PT1H
X-Robots-Tag:noindex
X-PUBLISHED-TTL:PT1H
BEGIN:VTIMEZONE
TZID:America/Chicago
BEGIN:DAYLIGHT
TZOFFSETFROM:-0600
TZOFFSETTO:-0500
TZNAME:CDT
DTSTART:20240310T080000
END:DAYLIGHT
BEGIN:STANDARD
TZOFFSETFROM:-0500
TZOFFSETTO:-0600
TZNAME:CST
DTSTART:20241103T070000
END:STANDARD
END:VTIMEZONE
BEGIN:VEVENT
DTSTART;TZID=America/Chicago:20241223T193000
DTEND;TZID=America/Chicago:20241223T203000
DTSTAMP:20260422T213646
CREATED:20241209T143602Z
LAST-MODIFIED:20241223T191509Z
UID:77679-1734982200-1734985800@montrosecenter.org
SUMMARY:Houston Transgender Support Group - In Person - 106
DESCRIPTION:Join us for our In-Person Support group for transgender adults\, those questioning and their advocates. Our goal is to provide an affirming place to share experiences and challenges among other transgender adults in a positive and encouraging atmosphere\, Following the hour-long meeting we will head to Empire Cafe for social time. \n\n\n\nThe group meets every other Monday at 7:30 p.m.  For more information\, please call: (281) 910-9873 \n\n\n\nJ Gunning
URL:https://montrosecenter.org/event/houston-transgender-support-group-in-person-106/2024-12-23/
CATEGORIES:At the Center,Transgender
END:VEVENT
END:VCALENDAR